BEGIN:VCALENDAR
VERSION:2.0
PRODID:-//PLACER  AL-ANON - ECPv6.15.20//NONSGML v1.0//EN
CALSCALE:GREGORIAN
METHOD:PUBLISH
X-ORIGINAL-URL:https://placer-al-anon.org
X-WR-CALDESC:Events for PLACER  AL-ANON
REFRESH-INTERVAL;VALUE=DURATION:PT1H
X-Robots-Tag:noindex
X-PUBLISHED-TTL:PT1H
BEGIN:VTIMEZONE
TZID:America/Los_Angeles
BEGIN:DAYLIGHT
TZOFFSETFROM:-0800
TZOFFSETTO:-0700
TZNAME:PDT
DTSTART:20250309T100000
END:DAYLIGHT
BEGIN:STANDARD
TZOFFSETFROM:-0700
TZOFFSETTO:-0800
TZNAME:PST
DTSTART:20251102T090000
END:STANDARD
BEGIN:DAYLIGHT
TZOFFSETFROM:-0800
TZOFFSETTO:-0700
TZNAME:PDT
DTSTART:20260308T100000
END:DAYLIGHT
BEGIN:STANDARD
TZOFFSETFROM:-0700
TZOFFSETTO:-0800
TZNAME:PST
DTSTART:20261101T090000
END:STANDARD
BEGIN:DAYLIGHT
TZOFFSETFROM:-0800
TZOFFSETTO:-0700
TZNAME:PDT
DTSTART:20270314T100000
END:DAYLIGHT
BEGIN:STANDARD
TZOFFSETFROM:-0700
TZOFFSETTO:-0800
TZNAME:PST
DTSTART:20271107T090000
END:STANDARD
END:VTIMEZONE
BEGIN:VEVENT
DTSTART;TZID=America/Los_Angeles:20260103T103000
DTEND;TZID=America/Los_Angeles:20260103T113000
DTSTAMP:20260423T114952
CREATED:20250919T190344Z
LAST-MODIFIED:20250930T020158Z
UID:5824-1767436200-1767439800@placer-al-anon.org
SUMMARY:AMIAS Meeting
DESCRIPTION:Monthly meeting of Al-Anon Members In Alateen Service\, open to anyone interested in supporting Alateen
URL:https://placer-al-anon.org/event/amias-meeting-4/
LOCATION:Loomis Library\, 6050 Library Drive\, Loomis\, CA\, United States
ORGANIZER;CN="alateen coordinator":MAILTO:alateen@placer-al-anon.org
END:VEVENT
BEGIN:VEVENT
DTSTART;TZID=America/Los_Angeles:20260112T190000
DTEND;TZID=America/Los_Angeles:20260112T200000
DTSTAMP:20260423T114952
CREATED:20250925T014737Z
LAST-MODIFIED:20251231T174209Z
UID:5959-1768244400-1768248000@placer-al-anon.org
SUMMARY:Auburn Gold Rush Speaker Mtg
DESCRIPTION:Al-Anon speaker meeting with members and speakers from all over the world\nZoom  659  316  3164    auburn             FLIER
URL:https://placer-al-anon.org/event/auburn-gold-rush-speaker-mtg-3/
LOCATION:Zoom
END:VEVENT
BEGIN:VEVENT
DTSTART;TZID=America/Los_Angeles:20260114T190000
DTEND;TZID=America/Los_Angeles:20260114T203000
DTSTAMP:20260423T114952
CREATED:20250925T015347Z
LAST-MODIFIED:20250930T020157Z
UID:5963-1768417200-1768422600@placer-al-anon.org
SUMMARY:AIS Intergroup Mtg
DESCRIPTION:This is the business meeting for Sacramento Area Al-Anon Information Service. Attendees are intergroup officers and coordinators\, plus district Representatives from districts 6 through 10\, and representatives from any group in these districts that care to participate. All representatives have a vote. Intergroup Flier\nZoom ID  962  975  6093  pwd  igroup.
URL:https://placer-al-anon.org/event/ais-intergroup-mtg-3/
LOCATION:Zoom
END:VEVENT
BEGIN:VEVENT
DTSTART;TZID=America/Los_Angeles:20260117T180000
DTEND;TZID=America/Los_Angeles:20260117T200000
DTSTAMP:20260423T114952
CREATED:20250919T180923Z
LAST-MODIFIED:20251231T174832Z
UID:5804-1768672800-1768680000@placer-al-anon.org
SUMMARY:D10 Speaker Meeting
DESCRIPTION:Usual Program: Opening | First Speaker | Second Speaker | Announcements |  Food and Fellowship|  Third speaker |  Closing \nFlier for This Meeting
URL:https://placer-al-anon.org/event/d10-speaker-meeting-3/
LOCATION:Shepherd of the Sierra Church\, 5400 Barton Road\, Loomis\, CA\, United States
ORGANIZER;CN="spkr mtg coordinator":MAILTO:speakermeeting@placer-al-anon.org
END:VEVENT
BEGIN:VEVENT
DTSTART;TZID=America/Los_Angeles:20260121T190000
DTEND;TZID=America/Los_Angeles:20260121T203000
DTSTAMP:20260423T114952
CREATED:20250923T234029Z
LAST-MODIFIED:20250930T020157Z
UID:5932-1769022000-1769027400@placer-al-anon.org
SUMMARY:D10 Biz Meeting
DESCRIPTION:D10 Reports due Tuesday\, 6:00 PM \nDocuments Online
URL:https://placer-al-anon.org/event/d10-biz-meeting-2/
LOCATION:Shepherd of the Sierra Church\, 5400 Barton Road\, Loomis\, CA\, United States
ORGANIZER;CN="district representative":MAILTO:districtrep@placer-al-anon.org
END:VEVENT
BEGIN:VEVENT
DTSTART;TZID=America/Los_Angeles:20260124T100000
DTEND;TZID=America/Los_Angeles:20260124T113000
DTSTAMP:20260423T114952
CREATED:20260115T060838Z
LAST-MODIFIED:20260115T061723Z
UID:6480-1769248800-1769254200@placer-al-anon.org
SUMMARY:AMIAS B17 Training
DESCRIPTION:B-17  Re-certification training 2026\, on Zoom – Details in FLIER
URL:https://placer-al-anon.org/event/amias-b17-training/
LOCATION:Zoom
END:VEVENT
BEGIN:VEVENT
DTSTART;TZID=America/Los_Angeles:20260131T130000
DTEND;TZID=America/Los_Angeles:20260131T160000
DTSTAMP:20260423T114952
CREATED:20251115T173001Z
LAST-MODIFIED:20251115T173001Z
UID:6159-1769864400-1769875200@placer-al-anon.org
SUMMARY:Soup Etc. @ District 8
DESCRIPTION:Potluck with speakers from Alateen\, Al-Anon\, and AA\, in Rancho Cordova  – details in FLIER
URL:https://placer-al-anon.org/event/soup-etc-district-8/
LOCATION:Hagan Community Center\, 2197 Chase Drive\, Rancho Cordova\, CA\, United States
END:VEVENT
END:VCALENDAR