BEGIN:VCALENDAR
VERSION:2.0
PRODID:-//PLACER  AL-ANON - ECPv6.15.20//NONSGML v1.0//EN
CALSCALE:GREGORIAN
METHOD:PUBLISH
X-WR-CALNAME:PLACER  AL-ANON
X-ORIGINAL-URL:https://placer-al-anon.org
X-WR-CALDESC:Events for PLACER  AL-ANON
REFRESH-INTERVAL;VALUE=DURATION:PT1H
X-Robots-Tag:noindex
X-PUBLISHED-TTL:PT1H
BEGIN:VTIMEZONE
TZID:America/Los_Angeles
BEGIN:DAYLIGHT
TZOFFSETFROM:-0800
TZOFFSETTO:-0700
TZNAME:PDT
DTSTART:20240310T100000
END:DAYLIGHT
BEGIN:STANDARD
TZOFFSETFROM:-0700
TZOFFSETTO:-0800
TZNAME:PST
DTSTART:20241103T090000
END:STANDARD
BEGIN:DAYLIGHT
TZOFFSETFROM:-0800
TZOFFSETTO:-0700
TZNAME:PDT
DTSTART:20250309T100000
END:DAYLIGHT
BEGIN:STANDARD
TZOFFSETFROM:-0700
TZOFFSETTO:-0800
TZNAME:PST
DTSTART:20251102T090000
END:STANDARD
BEGIN:DAYLIGHT
TZOFFSETFROM:-0800
TZOFFSETTO:-0700
TZNAME:PDT
DTSTART:20260308T100000
END:DAYLIGHT
BEGIN:STANDARD
TZOFFSETFROM:-0700
TZOFFSETTO:-0800
TZNAME:PST
DTSTART:20261101T090000
END:STANDARD
END:VTIMEZONE
BEGIN:VEVENT
DTSTART;TZID=America/Los_Angeles:20251206T103000
DTEND;TZID=America/Los_Angeles:20251206T113000
DTSTAMP:20260423T133241
CREATED:20250919T182134Z
LAST-MODIFIED:20250930T015632Z
UID:5806-1765017000-1765020600@placer-al-anon.org
SUMMARY:AMIAS Meeting
DESCRIPTION:Monthly meeting of Al-Anon Members In Alateen Service\, open to anyone interested in supporting Alateen
URL:https://placer-al-anon.org/event/amias-meeting-3/
LOCATION:Loomis Library\, 6050 Library Drive\, Loomis\, CA\, United States
ORGANIZER;CN="alateen coordinator":MAILTO:alateen@placer-al-anon.org
END:VEVENT
BEGIN:VEVENT
DTSTART;TZID=America/Los_Angeles:20251207T140000
DTEND;TZID=America/Los_Angeles:20251207T170000
DTSTAMP:20260423T133241
CREATED:20251113T194125Z
LAST-MODIFIED:20251113T194125Z
UID:6142-1765116000-1765126800@placer-al-anon.org
SUMMARY:Alateen Gift Exchange
DESCRIPTION:Fun for or all Alateens\, friends\, and family\, everyone and anyone! Celebrate the season and the Alateen program.  EVENT FLIER
URL:https://placer-al-anon.org/event/alateen-gift-exchange/
LOCATION:Community Presbyterian Church\, 425 Hemlock St.\, Vacaville\, CA\, United States
END:VEVENT
BEGIN:VEVENT
DTSTART;TZID=America/Los_Angeles:20251208T190000
DTEND;TZID=America/Los_Angeles:20251208T200000
DTSTAMP:20260423T133241
CREATED:20250919T185355Z
LAST-MODIFIED:20251124T041036Z
UID:5820-1765220400-1765224000@placer-al-anon.org
SUMMARY:Auburn Gold Rush Speaker Mtg
DESCRIPTION:Al-Anon speaker meeting with members and speakers from all over the world\nZoom  659  316  3164    auburn       Details in —>  FLIER
URL:https://placer-al-anon.org/event/auburn-gold-rush-speaker-mtg-2/
LOCATION:Zoom
END:VEVENT
BEGIN:VEVENT
DTSTART;TZID=America/Los_Angeles:20251217T190000
DTEND;TZID=America/Los_Angeles:20251217T203000
DTSTAMP:20260423T133241
CREATED:20250919T215841Z
LAST-MODIFIED:20250930T020158Z
UID:5829-1765998000-1766003400@placer-al-anon.org
SUMMARY:Biz Mtg CANCELED
DESCRIPTION:Next D10 Biz Meeting:  Jan 14
URL:https://placer-al-anon.org/event/canceled/
END:VEVENT
BEGIN:VEVENT
DTSTART;VALUE=DATE:20251218
DTEND;VALUE=DATE:20251219
DTSTAMP:20260423T133241
CREATED:20251123T221856Z
LAST-MODIFIED:20251123T221856Z
UID:6177-1766016000-1766102399@placer-al-anon.org
SUMMARY:Final  Meeting
DESCRIPTION:“Rocklin Reaching Out” meets for the last time.
URL:https://placer-al-anon.org/event/final-meeting/
END:VEVENT
BEGIN:VEVENT
DTSTART;TZID=America/Los_Angeles:20251220T180000
DTEND;TZID=America/Los_Angeles:20251220T200000
DTSTAMP:20260423T133241
CREATED:20250919T215345Z
LAST-MODIFIED:20251203T020231Z
UID:5827-1766253600-1766260800@placer-al-anon.org
SUMMARY:D10 Speaker Meeting
DESCRIPTION:Usual Program: Opening | First Speaker | Second Speaker | Announcements |  Food and Fellowship|  Third speaker |  Closing \nDetails in FLIER
URL:https://placer-al-anon.org/event/d10-speaker-meeting-4/
LOCATION:Shepherd of the Sierra Church\, 5400 Barton Road\, Loomis\, CA\, United States
ORGANIZER;CN="spkr mtg coordinator":MAILTO:speakermeeting@placer-al-anon.org
END:VEVENT
BEGIN:VEVENT
DTSTART;VALUE=DATE:20251228
DTEND;VALUE=DATE:20251229
DTSTAMP:20260423T133241
CREATED:20251209T184403Z
LAST-MODIFIED:20251209T193345Z
UID:6249-1766880000-1766966399@placer-al-anon.org
SUMMARY:Dear Abby
DESCRIPTION:The “Dear Abby” column in many online newspapers today will recommend Al-Anon.  You may want to copy and share it\, or to leave a positive comment with the newspaper (WSO advises to keep your membership anonymous).  One such newspaper is the San Jose Mercury.
URL:https://placer-al-anon.org/event/dear-abby/
END:VEVENT
END:VCALENDAR