BEGIN:VCALENDAR
VERSION:2.0
PRODID:-//PLACER  AL-ANON - ECPv6.15.20//NONSGML v1.0//EN
CALSCALE:GREGORIAN
METHOD:PUBLISH
X-WR-CALNAME:PLACER  AL-ANON
X-ORIGINAL-URL:https://placer-al-anon.org
X-WR-CALDESC:Events for PLACER  AL-ANON
REFRESH-INTERVAL;VALUE=DURATION:PT1H
X-Robots-Tag:noindex
X-PUBLISHED-TTL:PT1H
BEGIN:VTIMEZONE
TZID:America/Los_Angeles
BEGIN:DAYLIGHT
TZOFFSETFROM:-0800
TZOFFSETTO:-0700
TZNAME:PDT
DTSTART:20240310T100000
END:DAYLIGHT
BEGIN:STANDARD
TZOFFSETFROM:-0700
TZOFFSETTO:-0800
TZNAME:PST
DTSTART:20241103T090000
END:STANDARD
BEGIN:DAYLIGHT
TZOFFSETFROM:-0800
TZOFFSETTO:-0700
TZNAME:PDT
DTSTART:20250309T100000
END:DAYLIGHT
BEGIN:STANDARD
TZOFFSETFROM:-0700
TZOFFSETTO:-0800
TZNAME:PST
DTSTART:20251102T090000
END:STANDARD
BEGIN:DAYLIGHT
TZOFFSETFROM:-0800
TZOFFSETTO:-0700
TZNAME:PDT
DTSTART:20260308T100000
END:DAYLIGHT
BEGIN:STANDARD
TZOFFSETFROM:-0700
TZOFFSETTO:-0800
TZNAME:PST
DTSTART:20261101T090000
END:STANDARD
END:VTIMEZONE
BEGIN:VEVENT
DTSTART;TZID=America/Los_Angeles:20251003T190000
DTEND;TZID=America/Los_Angeles:20251003T200000
DTSTAMP:20260423T163433
CREATED:20251001T021824Z
LAST-MODIFIED:20251001T021824Z
UID:6010-1759518000-1759521600@placer-al-anon.org
SUMMARY:12 Stepping Stones Location Change
DESCRIPTION:Friday Night 12 Stepping Stones are unable to met at our normal location.\nWe will be holding our meeting at Denny’s on Sunrise 122 Sunrise Ave 7-8.
URL:https://placer-al-anon.org/event/12-stepping-stones-location-change/
LOCATION:Denny’s\, 122 Sunrise Ave.\, Roseville\, CA
END:VEVENT
BEGIN:VEVENT
DTSTART;TZID=America/Los_Angeles:20251004T113000
DTEND;TZID=America/Los_Angeles:20251004T123000
DTSTAMP:20260423T163433
CREATED:20250919T011807Z
LAST-MODIFIED:20250930T020046Z
UID:5777-1759577400-1759581000@placer-al-anon.org
SUMMARY:AMIAS Meeting
DESCRIPTION:Monthly meeting for Alateen Sponsors and those interested in supporting Alateen
URL:https://placer-al-anon.org/event/amias-meeting/
LOCATION:Grass Valley Fellowship\, 1721 E. Main St. Suite 1B\, Grass Valley\, CA\, United States
END:VEVENT
BEGIN:VEVENT
DTSTART;TZID=America/Los_Angeles:20251008T190000
DTEND;TZID=America/Los_Angeles:20251008T203000
DTSTAMP:20260423T163433
CREATED:20250919T014232Z
LAST-MODIFIED:20250930T020045Z
UID:5780-1759950000-1759955400@placer-al-anon.org
SUMMARY:AIS Intergroup Meeting
DESCRIPTION:For Intergroup officers\, coordinators\, D.R.s\, G.R.s or substitutes\nOpen to all Al-Anon members interested in operation of the Literature Depot\, or Coordination between districts in the Sacramento Area.\nZoom:  962 975 6093    igroup       Intergroup Flier
URL:https://placer-al-anon.org/event/ais-intergroup-meeting/
LOCATION:Zoom
END:VEVENT
BEGIN:VEVENT
DTSTART;TZID=America/Los_Angeles:20251013T190000
DTEND;TZID=America/Los_Angeles:20251013T200000
DTSTAMP:20260423T163433
CREATED:20250919T042853Z
LAST-MODIFIED:20250930T014950Z
UID:5783-1760382000-1760385600@placer-al-anon.org
SUMMARY:Auburn Gold Rush Speaker Mtg.
DESCRIPTION:Monthly on the second Monday — Zoom meeting @ 659 316 3164    auburn \nFLIER
URL:https://placer-al-anon.org/event/auburn-gold-rush-speaker-mtg/
LOCATION:Zoom
END:VEVENT
BEGIN:VEVENT
DTSTART;TZID=America/Los_Angeles:20251015T190000
DTEND;TZID=America/Los_Angeles:20251015T203000
DTSTAMP:20260423T163433
CREATED:20250919T002740Z
LAST-MODIFIED:20250923T235221Z
UID:5337-1760554800-1760560200@placer-al-anon.org
SUMMARY:District 10 Business Meeting
DESCRIPTION:Monthly business meeting for District 10 Group Representatives\, Officers\, and Coordinators.   All Al-Anon Family Groups in District 10 should send their Group Representative or a substitute to this meeting.  For business decisions only Group Representatives or their substitutes can vote. \nReports due Tues\, 6:00 PM to  technology@placer-al-anon.org \nOnline Documents
URL:https://placer-al-anon.org/event/district-10-business-meeting/
LOCATION:Shepherd of the Sierra Church\, 5400 Barton Road\, Loomis\, CA\, United States
ORGANIZER;CN="District 10":MAILTO:webmaster@placer-al-anon.org
END:VEVENT
BEGIN:VEVENT
DTSTART;VALUE=DATE:20251017
DTEND;VALUE=DATE:20251020
DTSTAMP:20260423T163433
CREATED:20250919T043935Z
LAST-MODIFIED:20250919T043935Z
UID:5785-1760659200-1760918399@placer-al-anon.org
SUMMARY:CAN Assembly
DESCRIPTION:Al-Anon California North — Fall Assembly
URL:https://placer-al-anon.org/event/can-assembly/
LOCATION:Maidu Community Center\, 1550 Maidu Drive\, Roseville\, CA\, United States
END:VEVENT
BEGIN:VEVENT
DTSTART;TZID=America/Los_Angeles:20251018T173000
DTEND;TZID=America/Los_Angeles:20251018T193000
DTSTAMP:20260423T163433
CREATED:20250919T044529Z
LAST-MODIFIED:20250930T015747Z
UID:5789-1760808600-1760815800@placer-al-anon.org
SUMMARY:All Alateen Dinner & Meeting
DESCRIPTION:Details in FLIER
URL:https://placer-al-anon.org/event/all-alateen-dinner-meeting/
LOCATION:Maidu Community Center\, 1550 Maidu Drive\, Roseville\, CA\, United States
END:VEVENT
BEGIN:VEVENT
DTSTART;TZID=America/Los_Angeles:20251018T190000
DTEND;TZID=America/Los_Angeles:20251018T204500
DTSTAMP:20260423T163433
CREATED:20250919T044954Z
LAST-MODIFIED:20250930T015735Z
UID:5791-1760814000-1760820300@placer-al-anon.org
SUMMARY:D10 Speaker Meeting
DESCRIPTION:One time only — DIFFERENT LOCATION AND TIME — this meeting is being made part of the Fall Assembly. \nFLIER
URL:https://placer-al-anon.org/event/district-10-speaker-meeting/
LOCATION:Maidu Community Center\, 1550 Maidu Drive\, Roseville\, CA\, United States
END:VEVENT
END:VCALENDAR