BEGIN:VCALENDAR
VERSION:2.0
PRODID:-//PLACER  AL-ANON - ECPv6.15.20//NONSGML v1.0//EN
CALSCALE:GREGORIAN
METHOD:PUBLISH
X-ORIGINAL-URL:https://placer-al-anon.org
X-WR-CALDESC:Events for PLACER  AL-ANON
REFRESH-INTERVAL;VALUE=DURATION:PT1H
X-Robots-Tag:noindex
X-PUBLISHED-TTL:PT1H
BEGIN:VTIMEZONE
TZID:America/Los_Angeles
BEGIN:DAYLIGHT
TZOFFSETFROM:-0800
TZOFFSETTO:-0700
TZNAME:PDT
DTSTART:20250309T100000
END:DAYLIGHT
BEGIN:STANDARD
TZOFFSETFROM:-0700
TZOFFSETTO:-0800
TZNAME:PST
DTSTART:20251102T090000
END:STANDARD
BEGIN:DAYLIGHT
TZOFFSETFROM:-0800
TZOFFSETTO:-0700
TZNAME:PDT
DTSTART:20260308T100000
END:DAYLIGHT
BEGIN:STANDARD
TZOFFSETFROM:-0700
TZOFFSETTO:-0800
TZNAME:PST
DTSTART:20261101T090000
END:STANDARD
BEGIN:DAYLIGHT
TZOFFSETFROM:-0800
TZOFFSETTO:-0700
TZNAME:PDT
DTSTART:20270314T100000
END:DAYLIGHT
BEGIN:STANDARD
TZOFFSETFROM:-0700
TZOFFSETTO:-0800
TZNAME:PST
DTSTART:20271107T090000
END:STANDARD
END:VTIMEZONE
BEGIN:VEVENT
DTSTART;TZID=America/Los_Angeles:20260912T090000
DTEND;TZID=America/Los_Angeles:20260912T150000
DTSTAMP:20260423T150045
CREATED:20251129T012737Z
LAST-MODIFIED:20251129T012737Z
UID:6224-1789203600-1789225200@placer-al-anon.org
SUMMARY:Day in Al-Anon 2026
DESCRIPTION:Save the Date\nTypically 9am to 3pm     Workshops  Speakers   Lunch    Fellowship
URL:https://placer-al-anon.org/event/day-in-al-anon-2026/
LOCATION:First Methodist Church\, 6414 Brace Road\, Loomis\, CA\, United States
END:VEVENT
END:VCALENDAR